BEGIN:VCALENDAR
VERSION:2.0
PRODID:-//PYVOBJECT//NONSGML Version 0.9.9//EN
X-WR-TIMEZONE:Africa/Johannesburg
BEGIN:VTIMEZONE
TZID:Africa/Johannesburg
BEGIN:STANDARD
DTSTART:20000101T000000
RRULE:FREQ=YEARLY;BYMONTH=1
TZNAME:SAST
TZOFFSETFROM:+0200
TZOFFSETTO:+0200
END:STANDARD
END:VTIMEZONE
BEGIN:VEVENT
UID:20260425T145304Z - 53445@eos-content
DTSTART;TZID=Africa/Johannesburg:20260425T100000
DTEND;TZID=Africa/Johannesburg:20260425T140000
ATTENDEE:MAILTO:mike.veitch@seeff.com
DESCRIPTION:https://www.seeff.com/results/residential/for-sale/hilton/hilto
 n-rural/house/3104707/\n\nCall Mike Veitch to view\n\nMichael Veitch (082 
 883 2056)
DTSTAMP:20260425T145304Z
LOCATION:Hilton Rural\, Hilton
SUMMARY:Seeff Property Group Show Day - RLS999169
END:VEVENT
END:VCALENDAR
