BEGIN:VCALENDAR
VERSION:2.0
PRODID:-//PYVOBJECT//NONSGML Version 0.9.9//EN
X-WR-TIMEZONE:Africa/Johannesburg
BEGIN:VTIMEZONE
TZID:Africa/Johannesburg
BEGIN:STANDARD
DTSTART:20000101T000000
RRULE:FREQ=YEARLY;BYMONTH=1
TZNAME:SAST
TZOFFSETFROM:+0200
TZOFFSETTO:+0200
END:STANDARD
END:VTIMEZONE
BEGIN:VEVENT
UID:20260425T193852Z - 57911@eos-content
DTSTART;TZID=Africa/Johannesburg:20260426T140000
DTEND;TZID=Africa/Johannesburg:20260426T160000
ATTENDEE:MAILTO:jackie.vandenberg@seeff.com
DESCRIPTION:https://www.seeff.com/results/residential/for-sale/groot-brakri
 vier/groot-brakrivier-central/vacant-land/3104175/\n\nBY APPOINTMENT\n\nJa
 ckie van den Berg (082 854 6618)
DTSTAMP:20260425T193852Z
LOCATION:Groot Brakrivier Central\, Groot Brakrivier
SUMMARY:Seeff Property Group Show Day - RLS999125
END:VEVENT
END:VCALENDAR
