BEGIN:VCALENDAR
VERSION:2.0
PRODID:-//PYVOBJECT//NONSGML Version 0.9.9//EN
X-WR-TIMEZONE:Africa/Johannesburg
BEGIN:VTIMEZONE
TZID:Africa/Johannesburg
BEGIN:STANDARD
DTSTART:20000101T000000
RRULE:FREQ=YEARLY;BYMONTH=1
TZNAME:SAST
TZOFFSETFROM:+0200
TZOFFSETTO:+0200
END:STANDARD
END:VTIMEZONE
BEGIN:VEVENT
UID:20260425T154425Z - 79653@eos-content
DTSTART;TZID=Africa/Johannesburg:20260426T140000
DTEND;TZID=Africa/Johannesburg:20260426T160000
ATTENDEE:MAILTO:jackie.vandenberg@seeff.com
DESCRIPTION:https://www.seeff.com/results/residential/for-sale/groot-brakri
 vier/bergsig/house/3103883/\n\nBY APPOINTMENT\n\nJackie van den Berg (082 
 854 6618)
DTSTAMP:20260425T154425Z
LOCATION:Bergsig\, Groot Brakrivier
SUMMARY:Seeff Property Group Show Day - RLS999096
END:VEVENT
END:VCALENDAR
