BEGIN:VCALENDAR
VERSION:2.0
PRODID:-//PYVOBJECT//NONSGML Version 0.9.9//EN
X-WR-TIMEZONE:Africa/Johannesburg
BEGIN:VTIMEZONE
TZID:Africa/Johannesburg
BEGIN:STANDARD
DTSTART:20000101T000000
RRULE:FREQ=YEARLY;BYMONTH=1
TZNAME:SAST
TZOFFSETFROM:+0200
TZOFFSETTO:+0200
END:STANDARD
END:VTIMEZONE
BEGIN:VEVENT
UID:20260424T010854Z - 62911@eos-content
DTSTART;TZID=Africa/Johannesburg:20260425T110000
DTEND;TZID=Africa/Johannesburg:20260425T130000
ATTENDEE:MAILTO:fanie.booysen@seeff.com
DESCRIPTION:https://www.seeff.com/results/residential/for-sale/pretoria/the
 -willows/apartment/3020534/\n\nThe Willows\n\nFanie Booysen (082 332 8007)
DTSTAMP:20260424T010854Z
LOCATION:The Willows\, Pretoria
SUMMARY:Seeff Property Group Show Day - RLS995679
END:VEVENT
END:VCALENDAR
