BEGIN:VCALENDAR
VERSION:2.0
PRODID:-//PYVOBJECT//NONSGML Version 0.9.9//EN
X-WR-TIMEZONE:Africa/Johannesburg
BEGIN:VTIMEZONE
TZID:Africa/Johannesburg
BEGIN:STANDARD
DTSTART:20000101T000000
RRULE:FREQ=YEARLY;BYMONTH=1
TZNAME:SAST
TZOFFSETFROM:+0200
TZOFFSETTO:+0200
END:STANDARD
END:VTIMEZONE
BEGIN:VEVENT
UID:20260422T073733Z - 26642@eos-content
DTSTART;TZID=Africa/Johannesburg:20260424T110000
DTEND;TZID=Africa/Johannesburg:20260424T130000
ATTENDEE:MAILTO:desiree.ferreira@seeff.com
DESCRIPTION:https://www.seeff.com/results/residential/for-sale/st-francis-b
 ay/st-francis-on-sea/house/2504527/10-cayenne/\n\n10 Cayenne\, Santareme\,
  St Francis Bay. Follow directional boards\n\nDesiree Ferreira (071 897 98
 62)
DTSTAMP:20260422T073733Z
LOCATION:10 Cayenne\, St Francis On Sea\, St Francis Bay
SUMMARY:Seeff Property Group Show Day - RLS983211
END:VEVENT
END:VCALENDAR
